BEGIN:VCALENDAR
VERSION:2.0
PRODID:icalendar-ruby
CALSCALE:GREGORIAN
METHOD:PUBLISH
BEGIN:VEVENT
DTSTAMP:20260424T164845Z
UID:38-239016@newhopelebanon.org
DTSTART:20260606T160000Z
DTEND:20260606T190000Z
CLASS:PUBLIC
CREATED:20260417T125928
DESCRIPTION:
LAST-MODIFIED:20260417T125928
LOCATION:Fellowship Hall/Kitchen
SUMMARY:Women's Scone-making Class
URL;VALUE=URI:https://newhopelebanon.org/events/womens-scone-making-class/2
 026-06-06
ATTACH;FILENAME=scones.jpg;FMTTYPE=image/jpeg:https://dq5pwpg1q8ru0.cloudfr
 ont.net/2025/12/13/03/35/36/20cb009e-1802-49c0-b12e-dc9cc72273c6/scones.jp
 g
END:VEVENT
END:VCALENDAR
