BEGIN:VCALENDAR
VERSION:2.0
PRODID:icalendar-ruby
CALSCALE:GREGORIAN
METHOD:PUBLISH
BEGIN:VEVENT
DTSTAMP:20260424T164845Z
UID:52-242582@newhopelebanon.org
DTSTART:20260613T160000Z
DTEND:20260613T233000Z
CLASS:PUBLIC
CREATED:20260422T174329
DESCRIPTION:Cost:  $25\nLunch will be provided\nThere will be child care a
 vailable
LAST-MODIFIED:20260422T174329
LOCATION:New Hope Church
SUMMARY:Honoring God in Conflict:
URL;VALUE=URI:https://newhopelebanon.org/events/honoring-god-in-conflict/20
 26-06-13
ATTACH;FILENAME=F66wv.jpg;FMTTYPE=image/jpeg:https://dq5pwpg1q8ru0.cloudfro
 nt.net/2026/04/17/20/03/32/99e566c0-48bd-401c-afe7-4f06e33470c0/F66wv.jpg
END:VEVENT
END:VCALENDAR
