BEGIN:VCALENDAR
VERSION:2.0
PRODID:icalendar-ruby
CALSCALE:GREGORIAN
METHOD:PUBLISH
BEGIN:VEVENT
DTSTAMP:20260424T154439Z
UID:50-220856@newhopelebanon.org
DTSTART:20260517T183000Z
DTEND:20260517T193000Z
CLASS:PUBLIC
CREATED:20260320T183905
DESCRIPTION:The meeting will be held following the service.
LAST-MODIFIED:20260320T183905
LOCATION:Sanctuary
SUMMARY:Annual Meeting
URL;VALUE=URI:https://newhopelebanon.org/events/annual-meeting/2026-05-17
ATTACH;FILENAME=grateful-thankful-blessed.jpg;FMTTYPE=image/jpeg:https://dq
 5pwpg1q8ru0.cloudfront.net/2026/03/21/01/39/04/52cd6a28-1673-4120-8deb-606
 ab299d980/grateful-thankful-blessed.jpg
END:VEVENT
END:VCALENDAR
